BEGIN:VCALENDAR
VERSION:2.0
PRODID:-//hacksw/handcal//NONSGML v1.0//EN
BEGIN:VEVENT
SUMMARY:[+16 M1] / Entente Plesseenne HB 1B
UID:cf6aeeb7-ab20-40ee-8346-6f2096df180d
DTSTART:20260502T170000Z
DTEND:20260502T183000Z
LOCATION:Gymnase du Parc avenue du parc 92260 Fontenay aux Roses
CATEGORIES:Sportif
STATUS:
URL;VALUE=URI:https://www.asf-handball.org/evenements/2026/05/02/16-m1-entente-plesseenne-hb-1b-2442795
END:VEVENT
END:VCALENDAR
